BEGIN:VCALENDAR
VERSION:2.0
PRODID:-//Plone.org//NONSGML plone.app.event//EN
X-WR-TIMEZONE:Europe/Vienna
BEGIN:VEVENT
SUMMARY:Wiederbelebung eines Fabrikareals
DTSTART;TZID=Europe/Vienna;VALUE=DATE-TIME:20260528T160000
DTEND;TZID=Europe/Vienna;VALUE=DATE-TIME:20260528T180000
DTSTAMP;VALUE=DATE-TIME:20260426T022732Z
UID:21d02990a35d4a43a76c928b8c663c84@aaf-live-raw.web.kup.tirol
CATEGORIES:AT26,Architekturtage 2026
CREATED;VALUE=DATE-TIME:20260112T222650Z
DESCRIPTION:Einem alten Fabriksareal wird neues Leben eingehaucht. Wie aus
  einem alten Industrieareal ein neuer Stadtteil für Möllersdorf entstehe
 n kann erfahren wir bei der Veranstaltung\, die in Kooperation mit Kalling
 er Projekte und dem Architekturzentrum Wien im Rahmen der Architekturtage 
 2026 stattfindet.
GEO:48.02423971805333;16.30624294281006
LAST-MODIFIED;VALUE=DATE-TIME:20260318T143240Z
LOCATION;ALTREP="https://hda-graz.at/orte/lib/adressbuch/werk-moellersdorf
 ":Werk Möllersdorf\, Mühlgasse 12 / Walter-von-der-Vogelweidestraße 201
 \, 2514 Traiskirchen-Möllersdorf\, Österreich
URL:https://hda-graz.at/orte/programm/wiederbelebung-eines-fabrikareals
END:VEVENT
BEGIN:VTIMEZONE
TZID:Europe/Vienna
X-LIC-LOCATION:Europe/Vienna
BEGIN:DAYLIGHT
DTSTART;VALUE=DATE-TIME:20260329T030000
TZNAME:CEST
TZOFFSETFROM:+0100
TZOFFSETTO:+0200
END:DAYLIGHT
END:VTIMEZONE
END:VCALENDAR
