BEGIN:VCALENDAR
VERSION:2.0
PRODID:-//Plone.org//NONSGML plone.app.event//EN
X-WR-TIMEZONE:Europe/Vienna
BEGIN:VEVENT
SUMMARY:Raum verbindet uns: mit der RAUM.WERTmethode gemeinsam Visionen f
 ür Räume entwickeln
DTSTART;TZID=Europe/Vienna;VALUE=DATE-TIME:20260519T190000
DTSTAMP;VALUE=DATE-TIME:20260424T123857Z
UID:77a26fc601c642b3b60b79a719f7f2a1@aaf-live-raw.web.kup.tirol
CREATED;VALUE=DATE-TIME:20260422T095606Z
DESCRIPTION:Im Vorfeld der österreichweiten Architekturtage (28.–30. Ma
 i) lädt das RAUM.WERTinstitut Salzburg zu einem besonderen Austausch in d
 as HDA ein.  Im Zentrum steht die Frage\, wie Architektur und Raum unser t
 ägliches Leben beeinflussen und wie wir diese Wirkung aktiv mitgestalten 
 können. Unter der fachkundigen Leitung von Architektin Ursula Spannberger
 \, Urbanistin Anne Graupner und Architekt Franz Ryznar erwarten die Teilne
 hmenden ein Vortrag sowie ein anschließender interaktiver Miniworkshop.
GEO:47.0711273;15.4338653
LAST-MODIFIED;VALUE=DATE-TIME:20260422T132248Z
LOCATION;ALTREP="https://hda-graz.at/lib/adressbuch/hda-haus-der-architekt
 ur":HDA – Haus der Architektur\, Mariahilferstraße 2\, 8020 Graz\, Öst
 erreich
URL:https://hda-graz.at/programm/raum-verbindet-uns
END:VEVENT
BEGIN:VTIMEZONE
TZID:Europe/Vienna
X-LIC-LOCATION:Europe/Vienna
BEGIN:DAYLIGHT
DTSTART;VALUE=DATE-TIME:20260329T030000
TZNAME:CEST
TZOFFSETFROM:+0100
TZOFFSETTO:+0200
END:DAYLIGHT
END:VTIMEZONE
END:VCALENDAR
